BEGIN:VCALENDAR
VERSION:2.0
PRODID:icalendar-ruby
CALSCALE:GREGORIAN
METHOD:PUBLISH
BEGIN:VEVENT
DTSTAMP:20260420T084419Z
UID:6-684292@tltop.info
DTSTART:20261004T150000Z
DTEND:20261004T160000Z
CLASS:PUBLIC
CREATED:20260420T022043
DESCRIPTION:Sunday School is where we dive more into the word together. The
  youth have their own class for this and adults as well
LAST-MODIFIED:20260420T022043
LOCATION:1602 Drexel ave Ford Heights IL
SUMMARY:Sunday School
URL;VALUE=URI:https://www.tltop.info/events/sunday-school/2026-10-04
END:VEVENT
END:VCALENDAR
