BEGIN:VCALENDAR
VERSION:2.0
PRODID:icalendar-ruby
CALSCALE:GREGORIAN
METHOD:PUBLISH
BEGIN:VEVENT
DTSTAMP:20260420T133242Z
UID:6-684879@tltop.info
DTSTART:20261025T150000Z
DTEND:20261025T160000Z
CLASS:PUBLIC
CREATED:20260420T070412
DESCRIPTION:Sunday School is where we dive more into the word together. The
  youth have their own class for this and adults as well
LAST-MODIFIED:20260420T070412
LOCATION:1602 Drexel ave Ford Heights IL
SUMMARY:Sunday School
URL;VALUE=URI:https://www.tltop.info/events/sunday-school/2026-10-25
END:VEVENT
END:VCALENDAR
