BEGIN:VCALENDAR
VERSION:2.0
PRODID:icalendar-ruby
CALSCALE:GREGORIAN
METHOD:PUBLISH
BEGIN:VEVENT
DTSTAMP:20260420T141504Z
UID:7-684984@tltop.info
DTSTART:20261004T163000Z
DTEND:20261004T183000Z
CLASS:PUBLIC
CREATED:20260420T070412
DESCRIPTION:Sunday worship is for all! Come join us
LAST-MODIFIED:20260420T070412
LOCATION:1602 Drexel ave Ford Heights IL
SUMMARY:Sunday Worship
URL;VALUE=URI:https://www.tltop.info/events/sunday-worship--7/2026-10-04
END:VEVENT
END:VCALENDAR
