BEGIN:VCALENDAR
VERSION:2.0
PRODID:icalendar-ruby
CALSCALE:GREGORIAN
METHOD:PUBLISH
BEGIN:VEVENT
DTSTAMP:20260420T173110Z
UID:7-686154@tltop.info
DTSTART:20261018T163000Z
DTEND:20261018T183000Z
CLASS:PUBLIC
CREATED:20260420T121308
DESCRIPTION:Sunday worship is for all! Come join us
LAST-MODIFIED:20260420T121308
LOCATION:1602 Drexel ave Ford Heights IL
SUMMARY:Sunday Worship
URL;VALUE=URI:https://www.tltop.info/events/sunday-worship--7/2026-10-18
END:VEVENT
END:VCALENDAR
