BEGIN:VCALENDAR
VERSION:2.0
PRODID:icalendar-ruby
CALSCALE:GREGORIAN
METHOD:PUBLISH
BEGIN:VEVENT
DTSTAMP:20260420T191405Z
UID:7-686155@tltop.info
DTSTART:20261025T163000Z
DTEND:20261025T183000Z
CLASS:PUBLIC
CREATED:20260420T121308
DESCRIPTION:Sunday worship is for all! Come join us
LAST-MODIFIED:20260420T121308
LOCATION:1602 Drexel ave Ford Heights IL
SUMMARY:Sunday Worship
URL;VALUE=URI:https://www.tltop.info/events/sunday-worship--7/2026-10-25
END:VEVENT
END:VCALENDAR
