BEGIN:VCALENDAR
VERSION:2.0
PRODID:icalendar-ruby
CALSCALE:GREGORIAN
METHOD:PUBLISH
BEGIN:VEVENT
DTSTAMP:20260420T204726Z
UID:7-686740@tltop.info
DTSTART:20261101T173000Z
DTEND:20261101T193000Z
CLASS:PUBLIC
CREATED:20260420T144801
DESCRIPTION:Sunday worship is for all! Come join us
LAST-MODIFIED:20260420T144801
LOCATION:1602 Drexel ave Ford Heights IL
SUMMARY:Sunday Worship
URL;VALUE=URI:https://www.tltop.info/events/sunday-worship--7/2026-11-01
END:VEVENT
END:VCALENDAR
