BEGIN:VCALENDAR
VERSION:2.0
PRODID:icalendar-ruby
CALSCALE:GREGORIAN
METHOD:PUBLISH
BEGIN:VEVENT
DTSTAMP:20260423T110027Z
UID:5-694689@tltop.info
DTSTART:20260816T150000Z
DTEND:20260816T160000Z
CLASS:PUBLIC
CREATED:20260422T215052
DESCRIPTION:Sunday Worship
LAST-MODIFIED:20260422T215052
LOCATION:
SUMMARY:Sunday Worship
URL;VALUE=URI:https://www.tltop.info/events/sunday-worship/2026-08-16
END:VEVENT
END:VCALENDAR
