BEGIN:VCALENDAR
VERSION:2.0
PRODID:icalendar-ruby
CALSCALE:GREGORIAN
METHOD:PUBLISH
BEGIN:VEVENT
DTSTAMP:20260423T223425Z
UID:5-697035@tltop.info
DTSTART:20260927T150000Z
DTEND:20260927T160000Z
CLASS:PUBLIC
CREATED:20260423T160517
DESCRIPTION:Sunday Worship
LAST-MODIFIED:20260423T160517
LOCATION:
SUMMARY:Sunday Worship
URL;VALUE=URI:https://www.tltop.info/events/sunday-worship/2026-09-27
END:VEVENT
END:VCALENDAR
