BEGIN:VCALENDAR
VERSION:2.0
PRODID:icalendar-ruby
CALSCALE:GREGORIAN
METHOD:PUBLISH
BEGIN:VEVENT
DTSTAMP:20260424T045811Z
UID:5-698209@tltop.info
DTSTART:20261025T150000Z
DTEND:20261025T160000Z
CLASS:PUBLIC
CREATED:20260423T215301
DESCRIPTION:Sunday Worship
LAST-MODIFIED:20260423T215301
LOCATION:
SUMMARY:Sunday Worship
URL;VALUE=URI:https://www.tltop.info/events/sunday-worship/2026-10-25
END:VEVENT
END:VCALENDAR
